BEGIN:VCALENDAR
VERSION:2.0
PRODID:DPCALENDAR
CALSCALE:GREGORIAN
BEGIN:VTIMEZONE
TZID:UTC
X-MICROSOFT-CDO-TZID:0
END:VTIMEZONE
X-WR-TIMEZONE:UTC
BEGIN:VEVENT
DTSTART;VALUE=DATE:20160329
DTEND;VALUE=DATE:20160402
UID:5DA5D159-552F-4051-A90F-6F57D6ACBDF4
SUMMARY:Öffnungszeiten in den Osterferien
DTSTAMP:20160308T134425Z
DESCRIPTION:Die OGS ist in den Osterferien in der Zeit vom 29.03.2016 bis 01.04.2016 täglich von 7.30 Uhr bis 16 Uhr geöffnet.
X-ALT-DESC;FMTTYPE=text/html:<p>Die OGS ist in den Osterferien in der Zeit vom 29.03.2016 bis 01.04.2016 t&auml;glich von 7.30 Uhr bis 16 Uhr ge&ouml;ffnet.</p>
LAST-MODIFIED:20160308T135640Z
X-ACCESS:1
X-HITS:212
X-URL:
X-COLOR:7BFF18
X-SHOW-END-TIME:1
END:VEVENT
BEGIN:VEVENT
DTSTART;TZID=UTC:20160425T073000
DTEND;TZID=UTC:20160425T160000
UID:73F9670A-9343-4ACB-8902-C7BB77B13043
SUMMARY:Öffnungszeiten Päd. Ganztagskonferenz
DTSTAMP:20160412T111416Z
DESCRIPTION:
X-ALT-DESC;FMTTYPE=text/html:
LAST-MODIFIED:20160412T111451Z
X-ACCESS:1
X-HITS:438
X-URL:
X-COLOR:DEB45D
X-SHOW-END-TIME:1
END:VEVENT
BEGIN:VEVENT
DTSTART;VALUE=DATE:20160506
DTEND;VALUE=DATE:20160507
UID:0B182C8E-2107-4A3D-BD45-42342AEDBD8B
SUMMARY:Beweglicher Feiertag - OGS geschlossen
DTSTAMP:20160308T135002Z
DESCRIPTION:An diesem Tag ist die OGS geschlossen!
X-ALT-DESC;FMTTYPE=text/html:<p>An diesem Tag ist die OGS geschlossen!</p>
LAST-MODIFIED:20160412T111159Z
X-ACCESS:1
X-HITS:465
X-URL:
X-COLOR:DEB45D
X-SHOW-END-TIME:1
END:VEVENT
BEGIN:VEVENT
DTSTART;TZID=UTC:20160527T073000
DTEND;TZID=UTC:20160527T160000
UID:38CD27B7-8432-4D61-8DFD-F0DE55792EF8
SUMMARY:Öffnungszeiten am beweglichen Feiertag
DTSTAMP:20160308T135105Z
DESCRIPTION:
X-ALT-DESC;FMTTYPE=text/html:
LAST-MODIFIED:20160308T135315Z
X-ACCESS:1
X-HITS:500
X-URL:
X-COLOR:DEB45D
X-SHOW-END-TIME:1
END:VEVENT
BEGIN:VEVENT
DTSTART;VALUE=DATE:20160808
DTEND;VALUE=DATE:20160825
UID:EE136905-01AC-4B31-9757-CE245937F024
SUMMARY:Öffnungszeiten in den Sommerferien
DTSTAMP:20160308T135516Z
DESCRIPTION:Die OGS öffnet in den Sommerferien in der Zeit vom 08.08.2016 bis 24.08.2016 täglich von 7.30 Uhr bis 16 Uhr.
X-ALT-DESC;FMTTYPE=text/html:<p>Die OGS &ouml;ffnet in den Sommerferien in der Zeit vom 08.08.2016 bis 24.08.2016 t&auml;glich von 7.30 Uhr bis 16 Uhr.</p>
LAST-MODIFIED:20160308T135657Z
X-ACCESS:1
X-HITS:616
X-URL:
X-COLOR:8FFF18
X-SHOW-END-TIME:1
END:VEVENT
BEGIN:VEVENT
DTSTART;VALUE=DATE:20170227
DTEND;VALUE=DATE:20170228
UID:FBF116C2-4967-4372-B874-8F771F902788
SUMMARY:Rosenmontag - die OGS bleibt geschlossen
DTSTAMP:20170208T145433Z
DESCRIPTION:
X-ALT-DESC;FMTTYPE=text/html:
X-ACCESS:1
X-HITS:358
X-URL:
X-COLOR:DEB45D
X-SHOW-END-TIME:1
END:VEVENT
BEGIN:VEVENT
DTSTART;VALUE=DATE:20170410
DTEND;VALUE=DATE:20170422
UID:7442D7B8-C103-44B8-A99C-B46DCC2AD097
SUMMARY:Osterferien - Ferienbetreuung bitte klicken
DTSTAMP:20170208T145702Z
DESCRIPTION:Vom 18.04.2017 bis zum 21.04.2017 ist die Ferienbetreuung der OGS von 7.30 Uhr bis 16.00 Uhr geöffnet.
X-ALT-DESC;FMTTYPE=text/html:<p>Vom 18.04.2017 bis zum 21.04.2017 ist die Ferienbetreuung der OGS von 7.30 Uhr bis 16.00 Uhr geöffnet.</p>
X-ACCESS:1
X-HITS:490
X-URL:
X-COLOR:DEB45D
X-SHOW-END-TIME:1
END:VEVENT
BEGIN:VEVENT
DTSTART;VALUE=DATE:20170526
DTEND;VALUE=DATE:20170527
UID:5D8401DC-26C3-4BF7-B511-E0F376F0A9DC
SUMMARY:Beweglicher Feiertag nach Christi Himmelfahrt
DTSTAMP:20170509T141610Z
DESCRIPTION:Die OGS ist von 7.30 Uhr bis 16 Uhr geöffnet.
X-ALT-DESC;FMTTYPE=text/html:<p>Die OGS ist von 7.30 Uhr bis 16 Uhr geöffnet.</p>
LAST-MODIFIED:20170509T141921Z
X-ACCESS:1
X-HITS:352
X-URL:
X-COLOR:DEB45D
X-SHOW-END-TIME:1
END:VEVENT
BEGIN:VEVENT
DTSTART;VALUE=DATE:20170616
DTEND;VALUE=DATE:20170617
UID:920CD951-5265-42C3-B803-2E56AB089A65
SUMMARY:Beweglicher Feiertag nach Fronleichnam
DTSTAMP:20170509T141702Z
DESCRIPTION:Die OGS ist von 7.30 Uhr bis 16 Uhr geöffnet.
X-ALT-DESC;FMTTYPE=text/html:<p>Die OGS ist von 7.30 Uhr bis 16 Uhr geöffnet.</p>
LAST-MODIFIED:20170509T142110Z
X-ACCESS:1
X-HITS:371
X-URL:
X-COLOR:DEB45D
X-SHOW-END-TIME:1
END:VEVENT
BEGIN:VEVENT
DTSTART;VALUE=DATE:20170814
DTEND;VALUE=DATE:20170830
UID:57AFD45A-9A55-469E-838B-8C9E98F2287B
SUMMARY:Öffnungszeiten in den Sommerferien
DTSTAMP:20170509T141836Z
DESCRIPTION:Die OGS ist in den Sommerferien im Zeitraum vom 14.08. bis zum 29.08.2017 täglich von 7.30 Uhr bis 16 Uhr geöffnet.
X-ALT-DESC;FMTTYPE=text/html:<p>Die OGS ist in den Sommerferien im Zeitraum vom 14.08. bis zum 29.08.2017 täglich von 7.30 Uhr bis 16 Uhr geöffnet.</p>
X-ACCESS:1
X-HITS:462
X-URL:
X-COLOR:DEB45D
X-SHOW-END-TIME:1
END:VEVENT
BEGIN:VEVENT
DTSTART;VALUE=DATE:20171002
DTEND;VALUE=DATE:20171003
UID:A1D1E80A-0D23-48F2-9A1D-C67759465EEB
SUMMARY:OGS am 02. Oktober 2017 geöffnet
DTSTAMP:20170913T052854Z
DESCRIPTION:Die OGS am Standort Lichtendorf ist am beweglichen Feiertag, dem 02.10.2017, zu den üblichen Betreuungszeiten geöffnet.
X-ALT-DESC;FMTTYPE=text/html:<p>Die OGS am Standort Lichtendorf ist am beweglichen Feiertag, dem 02.10.2017, zu den üblichen Betreuungszeiten geöffnet.</p>
X-ACCESS:1
X-HITS:281
X-URL:
X-COLOR:DEB45D
X-SHOW-END-TIME:1
END:VEVENT
BEGIN:VEVENT
DTSTART;VALUE=DATE:20171013
DTEND;VALUE=DATE:20171014
UID:A4B7281C-47FF-4AC3-812C-8F65EAB7EC9A
SUMMARY:Notbetreuung in der OGS
DTSTAMP:20170914T124621Z
DESCRIPTION:Aufgrund einer "Erste Hilfe Schulung" für die Mitarbeiter der Jugendhilfe kann die OGS an diesem Tag nur mit einer Notbetreuung öffnen.
X-ALT-DESC;FMTTYPE=text/html:<p>Aufgrund einer "Erste Hilfe Schulung" für die Mitarbeiter der Jugendhilfe kann die OGS an diesem Tag nur mit einer Notbetreuung öffnen.</p>
X-ACCESS:1
X-HITS:407
X-URL:
X-COLOR:DEB45D
X-SHOW-END-TIME:1
END:VEVENT
BEGIN:VEVENT
DTSTART;VALUE=DATE:20190222
DTEND;VALUE=DATE:20190223
UID:EC167E52-A0A0-44BA-8E22-006B3EDF0A2A
SUMMARY:Pädagogische Ganztagskonferenz
DTSTAMP:20190126T145741Z
DESCRIPTION:Während der Pädagogischen Ganztagskonferenz am 22.02.2019 ist die OGS am Standort Lichtendorf in der Zeit von 7.30 Uhr bis 16 Uhr geöffnet. Die Abfrage und Anmeldung erfolgt zwei Wochen vor dem Termin.
X-ALT-DESC;FMTTYPE=text/html:<p><!-- x-tinymce/html -->Während der&nbsp;Pädagogischen Ganztagskonferenz am 22.02.2019 ist die OGS am Standort Lichtendorf in der Zeit von 7.30 Uhr bis 16 Uhr geöffnet. Die Abfrage und Anmeldung erfolgt zwei Wochen vor dem Termin.</p>
X-ACCESS:1
X-HITS:367
X-URL:
X-COLOR:DEB45D
X-SHOW-END-TIME:1
END:VEVENT
BEGIN:VEVENT
DTSTART;VALUE=DATE:20190305
DTEND;VALUE=DATE:20190306
UID:0D72F467-9C73-457F-8D9D-E793F192D7F9
SUMMARY:Beweglicher Feiertag
DTSTAMP:20190126T145909Z
DESCRIPTION:Am beweglichen Feiertag (05.03.2019) ist die OGS am Standort Lichtendorf in der Zeit von 7.30 Uhr bis 16 Uhr geöffnet. Die Abfrage und Anmeldung erfolgt zwei Wochen vor dem Termin.
X-ALT-DESC;FMTTYPE=text/html:<p><!-- x-tinymce/html -->Am beweglichen Feiertag (05.03.2019)&nbsp;ist die OGS am Standort Lichtendorf in der Zeit von 7.30 Uhr bis 16 Uhr geöffnet. Die Abfrage und Anmeldung erfolgt zwei Wochen vor dem Termin.</p>
X-ACCESS:1
X-HITS:394
X-URL:
X-COLOR:DEB45D
X-SHOW-END-TIME:1
END:VEVENT
BEGIN:VEVENT
DTSTART;VALUE=DATE:20190423
DTEND;VALUE=DATE:20190427
UID:57BC2E0E-9C10-4848-814A-1FDBF00BD32B
SUMMARY:Öffnungszeiten Osterferien
DTSTAMP:20190126T145614Z
DESCRIPTION:In den Osterferien ist die OGS am Standort Lichtendorf vom 23.04.2019 bis zum 26.04.2019 in der Zeit von 7.30 Uhr bis 16 Uhr geöffnet. Die Abfrage und Anmeldung erfolgt zwei Wochen vor dem Termin.
X-ALT-DESC;FMTTYPE=text/html:<p>In den Osterferien ist die OGS am Standort Lichtendorf vom 23.04.2019 bis zum 26.04.2019 in der Zeit von 7.30 Uhr bis 16 Uhr geöffnet. Die Abfrage und Anmeldung erfolgt zwei Wochen vor dem Termin.</p>
X-ACCESS:1
X-HITS:582
X-URL:
X-COLOR:DEB45D
X-SHOW-END-TIME:1
END:VEVENT
BEGIN:VEVENT
DTSTART;VALUE=DATE:20190531
DTEND;VALUE=DATE:20190601
UID:E33F795E-E02A-491F-8622-BE073ECB1E8D
SUMMARY:Beweglicher Feiertag
DTSTAMP:20190126T145952Z
DESCRIPTION:Am beweglichen Feiertag (31.05.2019) ist die OGS am Standort Lichtendorf in der Zeit von 7.30 Uhr bis 16 Uhr geöffnet. Die Abfrage und Anmeldung erfolgt zwei Wochen vor dem Termin.
X-ALT-DESC;FMTTYPE=text/html:<p><!-- x-tinymce/html -->Am beweglichen Feiertag (31.05.2019)&nbsp;ist die OGS am Standort Lichtendorf in der Zeit von 7.30 Uhr bis 16 Uhr geöffnet. Die Abfrage und Anmeldung erfolgt zwei Wochen vor dem Termin.</p>
X-ACCESS:1
X-HITS:593
X-URL:
X-COLOR:DEB45D
X-SHOW-END-TIME:1
END:VEVENT
BEGIN:VEVENT
DTSTART;VALUE=DATE:20190812
DTEND;VALUE=DATE:20190828
UID:C66815D5-1C29-4375-BC7B-DD91396DA359
SUMMARY:Öffnungszeiten Sommerferien
DTSTAMP:20190126T150347Z
DESCRIPTION:In den Sommerferien ist die OGS am Standort Lichtendorf vom 12.08.2019 bis 23.08.2019 und am 26./27.08.2019 in der Zeit von 7.30 Uhr bis 16 Uhr geöffnet. Die Abfrage und Anmeldung erfolgt zwei Wochen vor dem Termin.
X-ALT-DESC;FMTTYPE=text/html:<p><!-- x-tinymce/html -->In den Sommerferien&nbsp;ist die OGS am Standort Lichtendorf vom 12.08.2019 bis 23.08.2019 und am 26./27.08.2019 in der Zeit von 7.30 Uhr bis 16 Uhr geöffnet. Die Abfrage und Anmeldung erfolgt zwei Wochen vor dem Termin.</p>
X-ACCESS:1
X-HITS:720
X-URL:
X-COLOR:DEB45D
X-SHOW-END-TIME:1
END:VEVENT
BEGIN:VEVENT
DTSTART;VALUE=DATE:20191021
DTEND;VALUE=DATE:20191026
UID:C88D98DB-0F8E-442C-8A01-427FD86CE31F
SUMMARY:Öffnungszeiten Herbstferien
DTSTAMP:20190126T150506Z
DESCRIPTION:In den Herbstferien ist die OGS am Standort Lichtendorf vom 21.10.2019 bis zum 25.10.2019 in der Zeit von 7.30 Uhr bis 16 Uhr geöffnet. Die Abfrage und Anmeldung erfolgt zwei Wochen vor dem Termin.
X-ALT-DESC;FMTTYPE=text/html:<p><!-- x-tinymce/html -->In den Herbstferien&nbsp;ist die OGS am Standort Lichtendorf vom 21.10.2019 bis zum 25.10.2019&nbsp;in der Zeit von 7.30 Uhr bis 16 Uhr geöffnet. Die Abfrage und Anmeldung erfolgt zwei Wochen vor dem Termin.</p>
X-ACCESS:1
X-HITS:714
X-URL:
X-COLOR:DEB45D
X-SHOW-END-TIME:1
END:VEVENT
BEGIN:VEVENT
DTSTART;VALUE=DATE:20200224
DTEND;VALUE=DATE:20200225
UID:D9C3562C-8FB4-4460-A703-70E52C412442
SUMMARY:Rosenmontag
DTSTAMP:20200130T151617Z
DESCRIPTION:Am Rosenmontag bleibt die OGS geschlossen.
X-ALT-DESC;FMTTYPE=text/html:<p>Am Rosenmontag bleibt die OGS geschlossen.</p>
X-ACCESS:1
X-HITS:368
X-URL:
X-COLOR:DEB45D
X-SHOW-END-TIME:1
END:VEVENT
BEGIN:VEVENT
DTSTART;VALUE=DATE:20200225
DTEND;VALUE=DATE:20200226
UID:8D531175-27F3-4E4D-9482-0CBBFA98479B
SUMMARY:Beweglicher Feiertag nach Rosenmontag
DTSTAMP:20200130T151851Z
DESCRIPTION:An diesem Tag ist die OGS zu den gewohnten Öffnungszeiten von 7:30 Uhr bis 16 Uhr geöffnet.
X-ALT-DESC;FMTTYPE=text/html:<p>An diesem Tag ist die OGS zu den gewohnten Öffnungszeiten von 7:30 Uhr bis 16 Uhr geöffnet.</p>
X-ACCESS:1
X-HITS:419
X-URL:
X-COLOR:DEB45D
X-SHOW-END-TIME:1
END:VEVENT
BEGIN:VEVENT
DTSTART;VALUE=DATE:20200226
DTEND;VALUE=DATE:20200227
UID:157D0B80-B421-48DD-A80E-F415AE7FBE69
SUMMARY:Pädagogische Ganztagskonferenz - schulfrei
DTSTAMP:20170830T130747Z
DESCRIPTION:Die OGS ist zu den üblichen Zeiten geöffnet.
X-ALT-DESC;FMTTYPE=text/html:<p>Die OGS ist zu den üblichen Zeiten geöffnet.</p>
LAST-MODIFIED:20170830T133536Z
X-ACCESS:1
X-HITS:409
X-URL:
X-COLOR:23468c
X-SHOW-END-TIME:1
END:VEVENT
BEGIN:VEVENT
DTSTART;VALUE=DATE:20200413
DTEND;VALUE=DATE:20200418
UID:7B311683-8385-4EE7-95A2-9C1A6D8E7BBC
SUMMARY:Osterferien, OGS vom 13.04. bis 17.04. geöffnet
DTSTAMP:20200130T152139Z
DESCRIPTION:Die OGS ist in dieser Woche zu den gewohnten Zeiten geöffnet.
X-ALT-DESC;FMTTYPE=text/html:<p>Die OGS ist in dieser Woche zu den gewohnten Zeiten geöffnet.</p>
X-ACCESS:1
X-HITS:541
X-URL:
X-COLOR:DEB45D
X-SHOW-END-TIME:1
END:VEVENT
BEGIN:VEVENT
DTSTART;VALUE=DATE:20200522
DTEND;VALUE=DATE:20200523
UID:8D685E1A-09DB-4F76-94CC-8D8EC2AE3E9E
SUMMARY:Beweglicher Feiertag nach Christi Himmelfahrt
DTSTAMP:20170509T141610Z
DESCRIPTION:
X-ALT-DESC;FMTTYPE=text/html:
LAST-MODIFIED:20200507T171044Z
X-ACCESS:1
X-HITS:491
X-URL:
X-COLOR:deb45d
X-SHOW-END-TIME:1
END:VEVENT
BEGIN:VEVENT
DTSTART;VALUE=DATE:20200601
DTEND;VALUE=DATE:20200603
UID:1CE678A3-26C6-4F6D-B094-C2CB5DBE06A7
SUMMARY:Pfingstferien
DTSTAMP:20200130T152911Z
DESCRIPTION:Die OGS bleibt an beiden Tagen geschlossen.
X-ALT-DESC;FMTTYPE=text/html:<p>Die OGS bleibt an beiden Tagen geschlossen.</p>
X-ACCESS:1
X-HITS:508
X-URL:
X-COLOR:DEB45D
X-SHOW-END-TIME:1
END:VEVENT
BEGIN:VEVENT
DTSTART;VALUE=DATE:20200612
DTEND;VALUE=DATE:20200613
UID:7AE0D0C1-3BA9-4058-8FC3-279179CEC642
SUMMARY:Beweglicher Feiertag nach Fronleichnam
DTSTAMP:20160905T154022Z
DESCRIPTION:Die OGS bleibt geschlossen.
X-ALT-DESC;FMTTYPE=text/html:<p>Die OGS bleibt geschlossen.</p>
X-ACCESS:1
X-HITS:506
X-URL:
X-COLOR:23468c
X-SHOW-END-TIME:1
END:VEVENT
BEGIN:VEVENT
DTSTART;VALUE=DATE:20200727
DTEND;VALUE=DATE:20200812
UID:70D8C33A-1367-4865-A030-3D687ACE3A2A
SUMMARY:Sommerferien in der OGS, Öffnungstermine wie folgt
DTSTAMP:20200130T153440Z
DESCRIPTION:Die OGS ist vom 27.07. bis 07.08. und vom 10.08. bis zum 11.08. zu den gewohnten Öffnungszeiten geöffnet.
X-ALT-DESC;FMTTYPE=text/html:<p>Die OGS ist vom 27.07. bis 07.08. und vom 10.08. bis zum 11.08. zu den gewohnten Öffnungszeiten geöffnet.</p>
X-ACCESS:1
X-HITS:534
X-URL:
X-COLOR:DEB45D
X-SHOW-END-TIME:1
END:VEVENT
BEGIN:VEVENT
DTSTART;VALUE=DATE:20201019
DTEND;VALUE=DATE:20201024
UID:E603326E-5F83-4F82-ACAC-F860DDCD76AD
SUMMARY:Herbstferien
DTSTAMP:20200130T153610Z
DESCRIPTION:Die OGS ist im genannten Zeitraum zu den gewohnten Öffnungszeiten geöffnet.
X-ALT-DESC;FMTTYPE=text/html:<p>Die OGS ist im genannten Zeitraum zu den gewohnten Öffnungszeiten geöffnet.</p>
X-ACCESS:1
X-HITS:654
X-URL:
X-COLOR:DEB45D
X-SHOW-END-TIME:1
END:VEVENT
END:VCALENDAR